BEGIN:VCALENDAR
VERSION:2.0
PRODID:-//eventon.com NONSGML v1.0//EN
CALSCALE:GREGORIAN
METHOD:PUBLISH
BEGIN:VEVENT
UID:69e9ef542b2d9
DTSTAMP:20260423T100716Z
DTSTART:20200111T200000Z
DTEND:20200111T235000Z
LOCATION:Gasthaus Fleischbauer  Sandl 28\,  4251 Sandl
SUMMARY:Bauernball Sandl
DESCRIPTION:Bauernball Sandl\nhttps://tg-sandl.com/events/bauernball-sandl-
 2/
URL:https://tg-sandl.com/events/bauernball-sandl-2/
END:VEVENT
END:VCALENDAR